BEGIN:VCALENDAR
VERSION:2.0
PRODID:-//Praktijk Aquila Pedicure Tarot Mediator - ECPv6.15.12//NONSGML v1.0//EN
CALSCALE:GREGORIAN
METHOD:PUBLISH
X-ORIGINAL-URL:https://www.praktijkaquila.nl
X-WR-CALDESC:Events for Praktijk Aquila Pedicure Tarot Mediator
REFRESH-INTERVAL;VALUE=DURATION:PT1H
X-Robots-Tag:noindex
X-PUBLISHED-TTL:PT1H
BEGIN:VTIMEZONE
TZID:Europe/Amsterdam
BEGIN:DAYLIGHT
TZOFFSETFROM:+0100
TZOFFSETTO:+0200
TZNAME:CEST
DTSTART:20250330T010000
END:DAYLIGHT
BEGIN:STANDARD
TZOFFSETFROM:+0200
TZOFFSETTO:+0100
TZNAME:CET
DTSTART:20251026T010000
END:STANDARD
BEGIN:DAYLIGHT
TZOFFSETFROM:+0100
TZOFFSETTO:+0200
TZNAME:CEST
DTSTART:20260329T010000
END:DAYLIGHT
BEGIN:STANDARD
TZOFFSETFROM:+0200
TZOFFSETTO:+0100
TZNAME:CET
DTSTART:20261025T010000
END:STANDARD
BEGIN:DAYLIGHT
TZOFFSETFROM:+0100
TZOFFSETTO:+0200
TZNAME:CEST
DTSTART:20270328T010000
END:DAYLIGHT
BEGIN:STANDARD
TZOFFSETFROM:+0200
TZOFFSETTO:+0100
TZNAME:CET
DTSTART:20271031T010000
END:STANDARD
END:VTIMEZONE
BEGIN:VEVENT
DTSTART;VALUE=DATE:20260301
DTEND;VALUE=DATE:20260316
DTSTAMP:20260420T200236
CREATED:20260224T082552Z
LAST-MODIFIED:20260224T083643Z
UID:31234-1772323200-1773619199@www.praktijkaquila.nl
SUMMARY:🎉📖 Boeklancering & verjaardagsactie! 📖🎉
DESCRIPTION:Op 1 maart 2026 verschijnt mijn nieuwe boek:\n✨TAROT – Leer (leg)patronen kennen\nEn omdat ik in maart 50 jaar word\, vier ik dat met een speciale eenmalige stuntactie! 👉 De eerste 50 sets van beide boeken samen voor slechts €50\,- (excl. porto)!Dat is een korting van ruim €7\,50!  \n🗓 Actieperiode: 1 t/m 15 maart 2026➡️ Alleen in deze periode geldt deze bijzondere prijs! \n\n📖 Wat je krijgt \n✨ TAROT – Leer de kaarten kennen\n(247 pagina’s | B5 – full colour | €34\,95)Een uitgebreid studie- en werkboek waarin je stapsgewijs leert wat tarot is en hoe je met de kaarten werkt\, praktisch\, nuchter en diepgaand. Je leert: \n✔ De achtergrond en betekenis van alle tarotkaarten ✔ Handige\, praktische oefeningen (16 opdrachten) om zelf tarot te oefenen ✔ Zowel klassieke als door mij ontwikkelde legpatronen ✔ Uitleg over dagkaarten\, kleuren\, symboliek en kaartverbanden ✔ Hoe je persoonskaarten berekent en wat ze over jou vertellen ✔ Consultvoorbeelden en mini-opdrachten voor je eigen readings \n\nEen compleet studie- en werkboek om de tarot én jezelf beter te leren kennen. \n\n& ✨ TAROT – Leer (leg)patronen kennen\n(128 pagina’s | B5 – full colour | €22\,95)Een verdiepend vervolg waarin je leert hoe legpatronen werken en hoe je ze inzet voor bewustwording en inzicht. Je ontdekt: \n✨ Hoe je helder kijkt naar je vragen en de patronen die steeds terugkomen ✨ Nieuwe\, verrassend diepgaande legpatronen naast de klassieke patronen ✨ Praktische\, stap-voor-stap uitleg die je helpt groeien met tarot als spiegel ✨ Hoe je tarot inzet om inzicht te krijgen in jezelf en je persoonlijke ontwikkeling dus niet om te voorspellen \n\nIn dit tweede boek krijgt het zaadje dat je in het eerste boek plantte ruimte om verder te groeien. \n\n📍 Extra informatie\nBeiden boeken zijn full color\, stevig uitgegeven en ideaal voor iedereen die tarot serieus wil leren gebruiken als instrument voor inzicht\, reflectie en persoonlijke groei. \n✨ Tarotkaarten zijn óók verkrijgbaar in de praktijk\, vraag er gerust naar! \n📌 Wil je de stuntactie boeken set bestellen?Stuur me een berichtje of spreek me aan in de praktijk\, de voorraad is beperkt (50 sets)! 🎁 \nVerkrijgbaar via de Webshop | Praktijk Aquila
URL:https://www.praktijkaquila.nl/event/%f0%9f%8e%89%f0%9f%93%96-boeklancering-verjaardagsactie-%f0%9f%93%96%f0%9f%8e%89/
LOCATION:Praktijk Aquila\, Noordervaartlaan 31\, 5916 SR Venlo Netherlands\, Venlo\, Limburg\, 5916SR\, Netherlands
ATTACH;FMTTYPE=image/jpeg:https://www.praktijkaquila.nl/wp-content/uploads/2026/02/TAROT-leer-de-kaarten-kennen-Leer-legpatronen-kennen-Praktijk-Aquila-Sonja-Backus.jpeg
END:VEVENT
END:VCALENDAR