BEGIN:VCALENDAR
VERSION:2.0
PRODID:-//Praktijk Aquila Pedicure Tarot Mediator - ECPv6.15.12//NONSGML v1.0//EN
CALSCALE:GREGORIAN
METHOD:PUBLISH
X-WR-CALNAME:Praktijk Aquila Pedicure Tarot Mediator
X-ORIGINAL-URL:https://www.praktijkaquila.nl
X-WR-CALDESC:Events for Praktijk Aquila Pedicure Tarot Mediator
REFRESH-INTERVAL;VALUE=DURATION:PT1H
X-Robots-Tag:noindex
X-PUBLISHED-TTL:PT1H
BEGIN:VTIMEZONE
TZID:Europe/Amsterdam
BEGIN:DAYLIGHT
TZOFFSETFROM:+0100
TZOFFSETTO:+0200
TZNAME:CEST
DTSTART:20240331T010000
END:DAYLIGHT
BEGIN:STANDARD
TZOFFSETFROM:+0200
TZOFFSETTO:+0100
TZNAME:CET
DTSTART:20241027T010000
END:STANDARD
BEGIN:DAYLIGHT
TZOFFSETFROM:+0100
TZOFFSETTO:+0200
TZNAME:CEST
DTSTART:20250330T010000
END:DAYLIGHT
BEGIN:STANDARD
TZOFFSETFROM:+0200
TZOFFSETTO:+0100
TZNAME:CET
DTSTART:20251026T010000
END:STANDARD
BEGIN:DAYLIGHT
TZOFFSETFROM:+0100
TZOFFSETTO:+0200
TZNAME:CEST
DTSTART:20260329T010000
END:DAYLIGHT
BEGIN:STANDARD
TZOFFSETFROM:+0200
TZOFFSETTO:+0100
TZNAME:CET
DTSTART:20261025T010000
END:STANDARD
END:VTIMEZONE
BEGIN:VEVENT
DTSTART;TZID=Europe/Amsterdam:20250910T193000
DTEND;TZID=Europe/Amsterdam:20250910T213000
DTSTAMP:20260421T043948
CREATED:20250903T131558Z
LAST-MODIFIED:20250903T131558Z
UID:31005-1757532600-1757539800@www.praktijkaquila.nl
SUMMARY:Tarotcursus Verdieping I
DESCRIPTION:Nadat je de basis cursus hebt gevolgd bij Praktijk Aquila ken je de basis van de kaarten\, een aantal patronen en weet je hoe je de kaarten kunt leggen voor jezelf en een ander. Het blijft leuk om bezig te blijven en om steeds meer te kunnen zien in de kaarten\, je bent bij de Tarot nu eenmaal nooit uitgeleerd. Wat je kunt verwachten bij de cursus; Verdieping van de kaartenWe gaan dieper in op de kaarten\, kaarten worden uitgelicht en nieuwe patronen worden geoefend. Iedere les wordt er een nieuw onderwerp besproken\, dus weer nieuwe informatie. Het zijn zes lessen\, waarbij je weer een werkklapper met alle informatie gaat ontvangen. En een vrijblijvende oefenavond om samen alle stof extra te kunnen oefenen. Zes ongedwongen\, gezellige lessen met gelijkgestemden en is kennis gezakt? Zodra je weer aan de slag gaat\, zul je merken dat je meer weet dan je dacht. Meer info staat op de site www.tarotvenlo.nl
URL:https://www.praktijkaquila.nl/event/tarotcursus-verdieping-i/
LOCATION:Praktijk Aquila\, Noordervaartlaan 31\, 5916 SR Venlo Netherlands\, Venlo\, Limburg\, 5916SR\, Netherlands
ATTACH;FMTTYPE=image/jpeg:https://www.praktijkaquila.nl/wp-content/uploads/2025/09/tarot-venlo-Tarot-Leer-de-kaarten-kennen-tarot-cursus-venlo-praktijk-aquila-sonja-backus-tarot-mediator-venlo-Tarot-Nederland.jpg
END:VEVENT
END:VCALENDAR