BEGIN:VCALENDAR
VERSION:2.0
PRODID:-//Praktijk Aquila Pedicure Tarot Mediator - ECPv6.15.12//NONSGML v1.0//EN
CALSCALE:GREGORIAN
METHOD:PUBLISH
X-WR-CALNAME:Praktijk Aquila Pedicure Tarot Mediator
X-ORIGINAL-URL:https://www.praktijkaquila.nl
X-WR-CALDESC:Events for Praktijk Aquila Pedicure Tarot Mediator
REFRESH-INTERVAL;VALUE=DURATION:PT1H
X-Robots-Tag:noindex
X-PUBLISHED-TTL:PT1H
BEGIN:VTIMEZONE
TZID:Europe/Amsterdam
BEGIN:DAYLIGHT
TZOFFSETFROM:+0100
TZOFFSETTO:+0200
TZNAME:CEST
DTSTART:20240331T010000
END:DAYLIGHT
BEGIN:STANDARD
TZOFFSETFROM:+0200
TZOFFSETTO:+0100
TZNAME:CET
DTSTART:20241027T010000
END:STANDARD
BEGIN:DAYLIGHT
TZOFFSETFROM:+0100
TZOFFSETTO:+0200
TZNAME:CEST
DTSTART:20250330T010000
END:DAYLIGHT
BEGIN:STANDARD
TZOFFSETFROM:+0200
TZOFFSETTO:+0100
TZNAME:CET
DTSTART:20251026T010000
END:STANDARD
BEGIN:DAYLIGHT
TZOFFSETFROM:+0100
TZOFFSETTO:+0200
TZNAME:CEST
DTSTART:20260329T010000
END:DAYLIGHT
BEGIN:STANDARD
TZOFFSETFROM:+0200
TZOFFSETTO:+0100
TZNAME:CET
DTSTART:20261025T010000
END:STANDARD
END:VTIMEZONE
BEGIN:VEVENT
DTSTART;TZID=Europe/Amsterdam:20251209T193000
DTEND;TZID=Europe/Amsterdam:20251209T213000
DTSTAMP:20260421T003136
CREATED:20251130T150351Z
LAST-MODIFIED:20251130T150351Z
UID:31090-1765308600-1765315800@www.praktijkaquila.nl
SUMMARY:Tarot Oefenavond
DESCRIPTION:Een gezellige avond waarin we samen met de tarotkaarten werken en inzichten opdoen. Iedereen is welkom\, zowel beginners als gevorderden. We delen kennis en leren van elkaar.Jullie gaan met tweetallen aan de slag en zijn er vragen dan stel ze gerust en ik kijk met jullie mee.Om mee te doen heb je wel kennis van de tarot (Rider Waite) nodig.Tijd: 19:30 – 21:30 uur (kan uitlopen)Kosten: € 15\,- (incl. 21% btw en koffie/thee)Oud-cursisten van Praktijk Aquila krijgen € 2\,50 kortingDeelnemers: 4-6 personenTip: Neem je eigen tarotkaarten mee\, anders zijn er oefendecks beschikbaar.Locatie: Praktijk Aquila VenloAanmelden graag via e mail: sonja@praktijkaquila.nl
URL:https://www.praktijkaquila.nl/event/tarot-oefenavond-2/
LOCATION:Praktijk Aquila\, Noordervaartlaan 31\, 5916 SR Venlo Netherlands\, Venlo\, Limburg\, 5916SR\, Netherlands
ATTACH;FMTTYPE=image/jpeg:https://www.praktijkaquila.nl/wp-content/uploads/2024/09/Wat-is-tarot.-Sonja-Backus.-Tarot-leer-de-kaarten-kennen.-Praktijk-Aquila.-Venlo-e1727683475864.jpg
END:VEVENT
END:VCALENDAR